BEGIN:VCALENDAR
VERSION:2.0
PRODID:-//eventon.com NONSGML v1.0//EN
CALSCALE:GREGORIAN
METHOD:PUBLISH
BEGIN:VEVENT
UID:69e5ef836e188
DTSTAMP:20260420T091859Z
DTSTART:20250822T091500Z
DTEND:20250822T101500Z
LOCATION:Oslo kvinnehelsesenter Vækerøveien 205a
SUMMARY:Mamma&Mini sterk 1 - barseltrening
DESCRIPTION:Mamma&amp;Mini sterk er et fantastisk kurs for deg som nylig ha
 r fått barn. På dette kurset har vi fokus på å styrke mors kropp etter 
 svangerskap og fødsel\,  samtidig som vi lar babyen bli en naturlig del av
  treningen. Både svangerskap og fødsel kan være en tøff påkjenning for
  mors[..]\nhttps://oslokvinnehelsesenter.no/events/mammamini-sterk-1-barsel
 trening-128/
URL:https://oslokvinnehelsesenter.no/events/mammamini-sterk-1-barseltrening-128/
END:VEVENT
END:VCALENDAR