BEGIN:VCALENDAR
VERSION:2.0
PRODID:-//eventon.com NONSGML v1.0//EN
CALSCALE:GREGORIAN
METHOD:PUBLISH
BEGIN:VEVENT
UID:69e73b6deb746
DTSTAMP:20260421T085509Z
DTSTART:20250403T150000Z
DTEND:20250403T160000Z
LOCATION:Oslo kvinnehelsesenter Vækerøveien 205a
SUMMARY:Gravidtrening
DESCRIPTION:Velkommen til vår styrketime for gravide! Denne treningstimen 
 er spesielt tilrettelagt for deg som har en liten mini i magen. Her har vi 
 fokus på å bygge en sterk og sunn kropp som tåler både en graviditet\, 
  men ikke minst tiden etterpå. Forskning viser til at det er sunt for[..]\
 nhttps://oslokvinnehelsesenter.no/events/gravidtrening-10/
URL:https://oslokvinnehelsesenter.no/events/gravidtrening-10/
END:VEVENT
END:VCALENDAR