BEGIN:VCALENDAR
VERSION:2.0
PRODID:-//eventon.com NONSGML v1.0//EN
CALSCALE:GREGORIAN
METHOD:PUBLISH
BEGIN:VEVENT
UID:69e73ad5d24b1
DTSTAMP:20260421T085237Z
DTSTART:20190827T160000Z
DTEND:20190827T190000Z
LOCATION:
SUMMARY:Førstehjelpskurs på barn og spedbarn
DESCRIPTION:Vi tilbyr i samarbeid med Akuttgruppen førstehjelpskurs på ba
 rn og spedbarn i våre lokaler på Røa. Kurset er beregnet for kommende fo
 reldre\,  foreldre og besteforeldre. Akuttgruppen er en etablert aktør inn
 en akuttmedisin og har 20 års kurserfaring. Kurset varer i 3 timer og inne
 holder både teori og praksis. Emner førstehjelpskurs:[..]\nhttps://oslokv
 innehelsesenter.no/events/forstehjelpskurs-pa-barn-og-spedbarn/
URL:https://oslokvinnehelsesenter.no/events/forstehjelpskurs-pa-barn-og-spedbarn/
END:VEVENT
END:VCALENDAR